BEGIN:VCALENDAR
VERSION:2.0
PRODID:-//Buurtschap Nobelhorst - ECPv6.0.13.1//NONSGML v1.0//EN
CALSCALE:GREGORIAN
METHOD:PUBLISH
X-WR-CALNAME:Buurtschap Nobelhorst
X-ORIGINAL-URL:https://www.buurtschapnobelhorst.nl
X-WR-CALDESC:Evenementen voor Buurtschap Nobelhorst
REFRESH-INTERVAL;VALUE=DURATION:PT1H
X-Robots-Tag:noindex
X-PUBLISHED-TTL:PT1H
BEGIN:VTIMEZONE
TZID:Europe/Amsterdam
BEGIN:DAYLIGHT
TZOFFSETFROM:+0100
TZOFFSETTO:+0200
TZNAME:CEST
DTSTART:20240331T010000
END:DAYLIGHT
BEGIN:STANDARD
TZOFFSETFROM:+0200
TZOFFSETTO:+0100
TZNAME:CET
DTSTART:20241027T010000
END:STANDARD
END:VTIMEZONE
BEGIN:VEVENT
DTSTART;VALUE=DATE:20240601
DTEND;VALUE=DATE:20240801
DTSTAMP:20260425T203725
CREATED:20240617T175538Z
LAST-MODIFIED:20240617T175538Z
UID:5151-1717200000-1722470399@www.buurtschapnobelhorst.nl
SUMMARY:Werkzaamheden buurtkavel
DESCRIPTION:
URL:https://www.buurtschapnobelhorst.nl/event/werkzaamheden-buurtkavel/
END:VEVENT
END:VCALENDAR