BEGIN:VCALENDAR
VERSION:2.0
PRODID:-//Buurtschap Nobelhorst - ECPv6.0.13.1//NONSGML v1.0//EN
CALSCALE:GREGORIAN
METHOD:PUBLISH
X-ORIGINAL-URL:https://www.buurtschapnobelhorst.nl
X-WR-CALDESC:Evenementen voor Buurtschap Nobelhorst
REFRESH-INTERVAL;VALUE=DURATION:PT1H
X-Robots-Tag:noindex
X-PUBLISHED-TTL:PT1H
BEGIN:VTIMEZONE
TZID:Europe/Amsterdam
BEGIN:DAYLIGHT
TZOFFSETFROM:+0100
TZOFFSETTO:+0200
TZNAME:CEST
DTSTART:20220327T010000
END:DAYLIGHT
BEGIN:STANDARD
TZOFFSETFROM:+0200
TZOFFSETTO:+0100
TZNAME:CET
DTSTART:20221030T010000
END:STANDARD
END:VTIMEZONE
BEGIN:VEVENT
DTSTART;TZID=Europe/Amsterdam:20220225T173000
DTEND;TZID=Europe/Amsterdam:20220225T210000
DTSTAMP:20260426T030519
CREATED:20220219T153209Z
LAST-MODIFIED:20220220T175535Z
UID:4753-1645810200-1645822800@www.buurtschapnobelhorst.nl
SUMMARY:Buurtborrel Buurtschap Nobelhorst Midden
DESCRIPTION:Ontmoet de buurtgenoten op de maandelijkse buurtborrel bij de Buurtschuur van Nobelhorst Midden. Bij deze buurtborrel zijn alle buurtbewoners uit Nobelhorst welkom. \nDe drankjes zijn in huis\, hier wordt wel een kleine bijdrage voor gevraagd á Euro 1\,- per drankje (voor alcoholische dranken). De hapjes zijn van het huis. \nCombideal  Pizza&Pasta van Rodenburgers vrijdag 25 februari 2022: 1 pizza voor Eur0 12\,- en 2 consumpties in de buurtschuur. \nWij zullen een strippenkaart hanteren van Euro 5\,- ( betaling zal via een betaalverzoek zijn). \nWe zien jullie graag!
URL:https://www.buurtschapnobelhorst.nl/event/buurtborrel-buurtschap-nobelhorst-midden-3/
LOCATION:Buurtschuur\, nobellaan 13\, Almere\, 1341BJ\, Nederland
CATEGORIES:Community
ATTACH;FMTTYPE=image/png:https://www.buurtschapnobelhorst.nl/wp-content/uploads/2021/05/Borreltijd-uit-700x501-1.png
ORGANIZER;CN="Buurtschap%20Nobelhorst%20midden":MAILTO:bestuur@buurtschapnobelhorst.nl
END:VEVENT
END:VCALENDAR