BEGIN:VCALENDAR
VERSION:2.0
PRODID:-//Buurtschap Nobelhorst - ECPv6.0.13.1//NONSGML v1.0//EN
CALSCALE:GREGORIAN
METHOD:PUBLISH
X-WR-CALNAME:Buurtschap Nobelhorst
X-ORIGINAL-URL:https://www.buurtschapnobelhorst.nl
X-WR-CALDESC:Evenementen voor Buurtschap Nobelhorst
REFRESH-INTERVAL;VALUE=DURATION:PT1H
X-Robots-Tag:noindex
X-PUBLISHED-TTL:PT1H
BEGIN:VTIMEZONE
TZID:Europe/Amsterdam
BEGIN:DAYLIGHT
TZOFFSETFROM:+0100
TZOFFSETTO:+0200
TZNAME:CEST
DTSTART:20220327T010000
END:DAYLIGHT
BEGIN:STANDARD
TZOFFSETFROM:+0200
TZOFFSETTO:+0100
TZNAME:CET
DTSTART:20221030T010000
END:STANDARD
END:VTIMEZONE
BEGIN:VEVENT
DTSTART;TZID=Europe/Amsterdam:20220614T180000
DTEND;TZID=Europe/Amsterdam:20220617T210000
DTSTAMP:20260425T205438
CREATED:20220226T182141Z
LAST-MODIFIED:20220626T110857Z
UID:4768-1655229600-1655499600@www.buurtschapnobelhorst.nl
SUMMARY:Avond4daagse Nobelhorst e.o.
DESCRIPTION:Van 14 juni tm 17 juni 2022 kun je (weer) meedoen aan de Avond4daagse Nobelhorst e.o. (Almere Hout).\nDe Avond4daagse = 4 dagen wandelen\, 4 dagen plezier hebben met je klasgenootjes en een echte medaille bij de finish!\nDe inschrijving is geopend!\n\nOnderstaand de flyer:\n\n\nAvondvierdaagse Nobelhorst 14 tm 17 juni 2022\n\n\n\nWij zoeken ook vrijwilligers! Al is het maar voor een avond of een uurtje\, graag jullie opgeven via: avondvierdaagse.nobelhorst@gmail.com.\n\n\nWij hopen jullie te mogen begroeten! Met zijn allen maken wij de avond4daagse van Nobelhorst weer een succes!\n\n\n\nMet vriendelijke groet\,\n\n\nStichting Avondvierdaagse Almere-Nobelhorst
URL:https://www.buurtschapnobelhorst.nl/event/avond4daagse-nobelhorst-e-o/
LOCATION:Buurtschuur\, nobellaan 13\, Almere\, 1341BJ\, Nederland
CATEGORIES:Community
ATTACH;FMTTYPE=image/png:https://www.buurtschapnobelhorst.nl/wp-content/uploads/2022/02/A4DZ_social.png
ORGANIZER;CN="Avond4daagse%20Nobelhorst":MAILTO:avondvierdaagse.nobelhorst@gmail.com
END:VEVENT
BEGIN:VEVENT
DTSTART;TZID=Europe/Amsterdam:20220615T180000
DTEND;TZID=Europe/Amsterdam:20220615T200000
DTSTAMP:20260425T205438
CREATED:20220320T100020Z
LAST-MODIFIED:20220416T175350Z
UID:4790-1655316000-1655323200@www.buurtschapnobelhorst.nl
SUMMARY:Avondvierdaagse Almere- Nobelhorst 14 tot en met 17 juni
DESCRIPTION:Van dinsdag 14 Juni 2022 tot en met vrijdag 17 Juni 2022 wordt in Nobelhorst voor de derde keer de avond4daagse georganiseerd! Stichting Avondvierdaagse Almere-Nobelhorst organiseert deze in samenwerking met de Koninklijke Wandel Bond Nederland. \nDeze avond4daagse is voor alle kinderen/leerlingen van Sterrenschool het Universum\, de Verwondering\, de Verbeelding\, Montessori Campus\, Kinderopvang Het Sterrenrijk en/of woonachtig in Nobelhorst\, Vogelhorst\, Oosterwold toegankelijk. \nWe verzamelen bij de Buurtschuur van Midden (Nobellaan 12) in Nobelhorst om 18:00 uur. Hier is elke avond het vertrek- en eindpunt. \nElke avond zal een ander rondje van 5km gelopen worden met halverwege een tussenstop met drinken en een kleine versnapering voor de kinderen. \nOp de feestelijke laatste avond ontvangen alle deelnemende kinderen een medaille\, diploma en iets lekkers. \n\n\nDe inschrijving is geopend!\n\nOnderstaand de flyer:\n\n\nAvondvierdaagse Nobelhorst 14 tm 17 juni 2022\n\n\nvoor meer informatie neem contact op met avondvierdaagse.nobelhorst@gmail.com.
URL:https://www.buurtschapnobelhorst.nl/event/avondvierdaagse-almere-nobelhorst-14-tot-en-met-17-juni-2/
LOCATION:Buurtschuur\, nobellaan 13\, Almere\, 1341BJ\, Nederland
CATEGORIES:Community
ATTACH;FMTTYPE=image/png:https://www.buurtschapnobelhorst.nl/wp-content/uploads/2022/02/A4DZ_social.png
ORGANIZER;CN="Avond4daagse%20Nobelhorst":MAILTO:avondvierdaagse.nobelhorst@gmail.com
END:VEVENT
END:VCALENDAR