BEGIN:VCALENDAR
VERSION:2.0
PRODID:-//Buurtschap Nobelhorst - ECPv6.0.13.1//NONSGML v1.0//EN
CALSCALE:GREGORIAN
METHOD:PUBLISH
X-WR-CALNAME:Buurtschap Nobelhorst
X-ORIGINAL-URL:https://www.buurtschapnobelhorst.nl
X-WR-CALDESC:Evenementen voor Buurtschap Nobelhorst
REFRESH-INTERVAL;VALUE=DURATION:PT1H
X-Robots-Tag:noindex
X-PUBLISHED-TTL:PT1H
BEGIN:VTIMEZONE
TZID:Europe/Amsterdam
BEGIN:DAYLIGHT
TZOFFSETFROM:+0100
TZOFFSETTO:+0200
TZNAME:CEST
DTSTART:20160327T010000
END:DAYLIGHT
BEGIN:STANDARD
TZOFFSETFROM:+0200
TZOFFSETTO:+0100
TZNAME:CET
DTSTART:20161030T010000
END:STANDARD
BEGIN:DAYLIGHT
TZOFFSETFROM:+0100
TZOFFSETTO:+0200
TZNAME:CEST
DTSTART:20170326T010000
END:DAYLIGHT
BEGIN:STANDARD
TZOFFSETFROM:+0200
TZOFFSETTO:+0100
TZNAME:CET
DTSTART:20171029T010000
END:STANDARD
BEGIN:DAYLIGHT
TZOFFSETFROM:+0100
TZOFFSETTO:+0200
TZNAME:CEST
DTSTART:20180325T010000
END:DAYLIGHT
BEGIN:STANDARD
TZOFFSETFROM:+0200
TZOFFSETTO:+0100
TZNAME:CET
DTSTART:20181028T010000
END:STANDARD
BEGIN:DAYLIGHT
TZOFFSETFROM:+0100
TZOFFSETTO:+0200
TZNAME:CEST
DTSTART:20190331T010000
END:DAYLIGHT
BEGIN:STANDARD
TZOFFSETFROM:+0200
TZOFFSETTO:+0100
TZNAME:CET
DTSTART:20191027T010000
END:STANDARD
BEGIN:DAYLIGHT
TZOFFSETFROM:+0100
TZOFFSETTO:+0200
TZNAME:CEST
DTSTART:20200329T010000
END:DAYLIGHT
BEGIN:STANDARD
TZOFFSETFROM:+0200
TZOFFSETTO:+0100
TZNAME:CET
DTSTART:20201025T010000
END:STANDARD
BEGIN:DAYLIGHT
TZOFFSETFROM:+0100
TZOFFSETTO:+0200
TZNAME:CEST
DTSTART:20210328T010000
END:DAYLIGHT
BEGIN:STANDARD
TZOFFSETFROM:+0200
TZOFFSETTO:+0100
TZNAME:CET
DTSTART:20211031T010000
END:STANDARD
BEGIN:DAYLIGHT
TZOFFSETFROM:+0100
TZOFFSETTO:+0200
TZNAME:CEST
DTSTART:20220327T010000
END:DAYLIGHT
BEGIN:STANDARD
TZOFFSETFROM:+0200
TZOFFSETTO:+0100
TZNAME:CET
DTSTART:20221030T010000
END:STANDARD
BEGIN:DAYLIGHT
TZOFFSETFROM:+0100
TZOFFSETTO:+0200
TZNAME:CEST
DTSTART:20230326T010000
END:DAYLIGHT
BEGIN:STANDARD
TZOFFSETFROM:+0200
TZOFFSETTO:+0100
TZNAME:CET
DTSTART:20231029T010000
END:STANDARD
BEGIN:DAYLIGHT
TZOFFSETFROM:+0100
TZOFFSETTO:+0200
TZNAME:CEST
DTSTART:20240331T010000
END:DAYLIGHT
BEGIN:STANDARD
TZOFFSETFROM:+0200
TZOFFSETTO:+0100
TZNAME:CET
DTSTART:20241027T010000
END:STANDARD
END:VTIMEZONE
BEGIN:VEVENT
DTSTART;TZID=Europe/Amsterdam:20241025T190000
DTEND;TZID=Europe/Amsterdam:20241025T213000
DTSTAMP:20260423T165033
CREATED:20241002T120340Z
LAST-MODIFIED:20241002T120758Z
UID:5165-1729882800-1729891800@www.buurtschapnobelhorst.nl
SUMMARY:Halloween Blacklight party
DESCRIPTION:Wat kun je verwachten? \nEen gruwelijk feest in de Buurtschuur\nDiverse snacks en drankjes (Fris | Limonade | Snoep | Popcorn | Chips)\nMuziek van DJ TIM MAIER \nKosten:\nKinderen van de leden van Buurtschap Midden kunnen kosteloos naar binnen (4 t/m 17 jaar). Ouders zijn altijd verantwoordelijk voor eigen kinderen. \nVanaf 28 september kunnen ook kinderen buiten Buurtschap Midden zich inschrijven voor de Disco. Kosten niet-leden: €2.50. \nNa aanmelding ontvang je een betaalverzoek. Je aanmelding is definitief na betaling. \nAanmelden: \nDe eerste twee weken\, t/m 27 september 2024\, staat de inschrijving alleen open voor de leden van Buurtschap Midden en na 28 september mogen zich ook niet-leden inschrijven. Je inschrijven kan tot 22 Oktober 2024. Let op: VOL = VOL
URL:https://www.buurtschapnobelhorst.nl/event/halloween-blacklight-party/
LOCATION:Buurtschuur\, nobellaan 13\, Almere\, 1341BJ\, Nederland
CATEGORIES:Kinderen
ATTACH;FMTTYPE=image/jpeg:https://www.buurtschapnobelhorst.nl/wp-content/uploads/2024/10/167ebcf0-e556-a3db-3800-dcc82c7c8516.jpg
END:VEVENT
BEGIN:VEVENT
DTSTART;TZID=Europe/Amsterdam:20211111T180000
DTEND;TZID=Europe/Amsterdam:20211111T200000
DTSTAMP:20260423T165033
CREATED:20210908T201538Z
LAST-MODIFIED:20210908T201538Z
UID:4619-1636653600-1636660800@www.buurtschapnobelhorst.nl
SUMMARY:Sint Maarten
DESCRIPTION:Ook dit jaar organiseert het Buurtschap Nobelhorst Midden weer iets leuks met Sint Maarten! \nKomen jullie ook? houd onze nieuwsbrief en de website in de gaten!
URL:https://www.buurtschapnobelhorst.nl/event/sint-maarten/
LOCATION:Buurtschuur\, nobellaan 13\, Almere\, 1341BJ\, Nederland
CATEGORIES:Community,Kinderen
ATTACH;FMTTYPE=image/jpeg:https://www.buurtschapnobelhorst.nl/wp-content/uploads/2021/09/da8ad9526f1c437c58d93851fb9afedf.jpg
ORGANIZER;CN="Buurtschap%20Nobelhorst%20midden":MAILTO:bestuur@buurtschapnobelhorst.nl
END:VEVENT
BEGIN:VEVENT
DTSTART;TZID=Europe/Amsterdam:20211030T140000
DTEND;TZID=Europe/Amsterdam:20211030T220000
DTSTAMP:20260423T165033
CREATED:20210908T202841Z
LAST-MODIFIED:20211024T095104Z
UID:4622-1635602400-1635631200@www.buurtschapnobelhorst.nl
SUMMARY:Halloween
DESCRIPTION:Een leuke Halloween activiteit voor jong en oud 🙂 georganiseerd door buurtschap Nobelhorst Midden. Alle leden van de buurtschappen zijn welkom! \n \n\n\n\nZaterdag 30 oktober van 14:30 – 17:30\nHalloween Party Kids \n \nHalloween feest voor de kinderen (leeftijd tot ongeveer 9 jaar)\, locatie Buurtschuur Midden\, Nobellaan 13. Leuke activiteiten\, spelletjes en een disco. Kom verkleed! \nGraag vooraf aanmelden via deze link of QR-code (uiterlijk 22 oktober 2021). VOL = VOL \nINSCHRIJVINGEN ZIJN GESLOTEN PER 23-10-2021! \n \nDeze activiteit is alleen voor de leden van de Buurtschappen. \n\n\n\n\nZaterdag 30 oktober van 19:00 – 21:30\nHalloween Party Teens\nHalloween feest voor de tieners\, locatie Buurtschuur Midden\, Nobellaan 13. Leuke activiteiten en een disco. Kom verkleed! \nGraag vooraf aanmelden via deze link of QR-code (uiterlijk 22 oktober 2021). VOL = VOL \n \nDeze activiteit is alleen voor de leden van de Buurtschappen. \n\n\n\n\nZaterdag 30 oktober van 21:30 – 00:00\nHalloween Party Adults                   \n \nHalloween feest voor volwassenen\, locatie Buurtschuur Midden\, Nobellaan 13.  Kom in stijl 🙂 \nDe drankjes zijn in huis\, hier wordt wel een kleine bijdrage voor gevraagd á Euro 1\,- per drankje (voor alcoholische dranken). Wij zullen een strippenkaart hanteren van Euro 5\,- ( betaling zal via een betaalverzoek zijn). \nGraag vooraf aanmelden via deze link of QR-code (uiterlijk 22 oktober 2021). VOL = VOL \n \nDeze activiteit is alleen voor de leden van de Buurtschappen.
URL:https://www.buurtschapnobelhorst.nl/event/halloween/
LOCATION:Buurtschuur\, nobellaan 13\, Almere\, 1341BJ\, Nederland
CATEGORIES:Community,Kinderen,Muziek
ATTACH;FMTTYPE=image/jpeg:https://www.buurtschapnobelhorst.nl/wp-content/uploads/2021/09/Carved_Pumpkins-scaled.jpg
ORGANIZER;CN="Buurtschap%20Nobelhorst%20midden":MAILTO:bestuur@buurtschapnobelhorst.nl
END:VEVENT
BEGIN:VEVENT
DTSTART;TZID=Europe/Amsterdam:20211004T160000
DTEND;TZID=Europe/Amsterdam:20211004T173000
DTSTAMP:20260423T165033
CREATED:20210908T195751Z
LAST-MODIFIED:20210924T104303Z
UID:4603-1633363200-1633368600@www.buurtschapnobelhorst.nl
SUMMARY:Herfstworkshop voor kinderen
DESCRIPTION:Herfstworkshop voor kinderen\nEen leuke herfstactiviteit voor de kinderen\, georganiseerd door Actief Bloemsierkunst in samenwerking met het buurtschap Nobelhorst Midden. Geen eigen bijdrage. \n\n(alleen leden van Buurtschap Midden – vooraf aanmelden uiterlijk 30-09-21) \n  \nAanmelden via QR-code of deze link\n \n***De leden hebben hier 23 September apart een e-mail over ontvangen. Deze niet ontvangen? Neem contact op met ons: bestuur@buurtschapnobelhorst.nl ***
URL:https://www.buurtschapnobelhorst.nl/event/herfstworkshop-voor-kinderen/
LOCATION:Buurtschuur\, nobellaan 13\, Almere\, 1341BJ\, Nederland
CATEGORIES:Kinderen
ATTACH;FMTTYPE=image/jpeg:https://www.buurtschapnobelhorst.nl/wp-content/uploads/2021/09/heart-1776746_1280-1200x675-1.jpg
ORGANIZER;CN="Buurtschap%20Nobelhorst%20midden":MAILTO:bestuur@buurtschapnobelhorst.nl
END:VEVENT
BEGIN:VEVENT
DTSTART;TZID=Europe/Amsterdam:20170721T163000
DTEND;TZID=Europe/Amsterdam:20170721T200000
DTSTAMP:20260423T165033
CREATED:20170613T172339Z
LAST-MODIFIED:20170613T172439Z
UID:3760-1500654600-1500667200@www.buurtschapnobelhorst.nl
SUMMARY:Luau kinderdisco Buurtschap Midden
DESCRIPTION:LUAU – KINDERDISCO •\n🍍Wil jij ook het schooljaar met een knal inluiden en de zomervakantie feestend beginnen? 🍹Kom dan vrijdag 21 juli vanaf 16.30 uur – 20.00 uur naar De Buurtschuur! \nEr is een echte DJ en er zijn spelletjes. Kinderen van alle leeftijden zijn welkom. (Onder de 4 jaar met papa en mama\, maar dat mag daarboven ook.) \n🍭Voor limonade\, fruit\, snoep\, chips en avondeten wordt gezorgd om het feest compleet te maken. 🍬Ben je er bij? Laat dit ons weten voor de inkopen. \n🏄🏼‍♀️🏄🏿Dresscode: zomers / Hawaï-style. Dit kan van jouw meest kleurrijke zwembroek met hemd\, favoriete zomerjurkje\, totaan een Hawaï-shirt of hularokje zijn met cocosnoten-top zijn. Gekke bril\, bloemenkrans of haarband? De leukste outfits worden beloond met een prijs! 🎉🍉 \nBedankt!\nBuurtschap Nobelhorst Midden\,\nHans & Audrey
URL:https://www.buurtschapnobelhorst.nl/event/luau-kinderdisco-buurtschap-midden/
LOCATION:Buurtschuur\, nobellaan 13\, Almere\, 1341BJ\, Nederland
CATEGORIES:Kinderen,Muziek
ATTACH;FMTTYPE=image/jpeg:https://www.buurtschapnobelhorst.nl/wp-content/uploads/2017/06/image11.jpg
ORGANIZER;CN="Buurtschap%20Nobelhorst%20midden":MAILTO:bestuur@buurtschapnobelhorst.nl
END:VEVENT
BEGIN:VEVENT
DTSTART;TZID=Europe/Amsterdam:20170517T090000
DTEND;TZID=Europe/Amsterdam:20170517T100000
DTSTAMP:20260423T165033
CREATED:20170512T100336Z
LAST-MODIFIED:20170512T100352Z
UID:3609-1495011600-1495015200@www.buurtschapnobelhorst.nl
SUMMARY:Club Ouderssamen bijeenkomst
DESCRIPTION:Club Ouderssamen bijeenkomst in Nobelhorst\, op woensdag 17 mei om 09:00 uur en om 19:00 uur\, locatie Sterrenschool het Universum \n 
URL:https://www.buurtschapnobelhorst.nl/event/club-ouderssamen-bijeenkomst/
LOCATION:Sterrenschool Het Universum\, Max Planckstraat 76\, Almere\, Nobelhorst
CATEGORIES:Kinderen
ATTACH;FMTTYPE=image/jpeg:https://www.buurtschapnobelhorst.nl/wp-content/uploads/2017/05/IMG_7538.jpg
END:VEVENT
BEGIN:VEVENT
DTSTART;TZID=Europe/Amsterdam:20170415T100000
DTEND;TZID=Europe/Amsterdam:20170415T120000
DTSTAMP:20260423T165033
CREATED:20170412T091639Z
LAST-MODIFIED:20170412T091639Z
UID:3586-1492250400-1492257600@www.buurtschapnobelhorst.nl
SUMMARY:Zaterdag 15 april Pasen in Nobelhorst 10:00-12:00
DESCRIPTION:Ben jij een echte speurneus\, of kan jij ontzettend goed knutselen? Dan moet je zaterdag zeker even naar de Buurtschuur komen! We hebben een aantal leuke activiteiten voor jullie klaar staan\, zoals het knutselen van leuke paaseieren\, het maken van een paashaasje\, paasmandje of paasslinger en voor de oudere kinderen zelfs een speurtocht door Nobelhorst! Ook gaan we met z’n allen paaseitjes zoeken. Dat wil je toch niet missen? Je bent van 10 tot 12 uur van harte welkom in de Buurtschuur! (Kinderen onder de 10 alleen onder begeleiding van een volwassene.)
URL:https://www.buurtschapnobelhorst.nl/event/zaterdag-15-april-pasen-nobelhorst-1000-1200/
LOCATION:Buurtschuur\, nobellaan 13\, Almere\, 1341BJ\, Nederland
CATEGORIES:Kinderen,Markt
ATTACH;FMTTYPE=image/jpeg:https://www.buurtschapnobelhorst.nl/wp-content/uploads/2017/04/17880177_1652926828058753_5687694930876974240_o.jpg
END:VEVENT
BEGIN:VEVENT
DTSTART;TZID=Europe/Amsterdam:20161028T183000
DTEND;TZID=Europe/Amsterdam:20161028T193000
DTSTAMP:20260423T165033
CREATED:20161014T145428Z
LAST-MODIFIED:20161014T145736Z
UID:2938-1477679400-1477683000@www.buurtschapnobelhorst.nl
SUMMARY:Halloween kinderdisco
DESCRIPTION:Maandag 31 oktober is het Halloween\, en ook Nobelhorst griezelt mee! Kom op vrijdag 28 oktober om 18.30 uur in je mooiste Halloween outfit naar de Buurtschuur voor een echte Halloween kinderdisco met DJ Martinezz. \nVoor de mooist verklede jongen en meisje hebben we een leuke prijs\, dus maak er extra werk van! Tot de 28ste! \n 
URL:https://www.buurtschapnobelhorst.nl/event/halloween-kinderdisco/
LOCATION:Buurtschuur\, nobellaan 13\, Almere\, 1341BJ\, Nederland
CATEGORIES:Kinderen
ATTACH;FMTTYPE=image/png:https://www.buurtschapnobelhorst.nl/wp-content/uploads/2016/10/Screen-Shot-2016-10-14-at-16.52.53.png
END:VEVENT
END:VCALENDAR