BEGIN:VCALENDAR
VERSION:2.0
PRODID:-//Buurtschap Nobelhorst - ECPv6.0.13.1//NONSGML v1.0//EN
CALSCALE:GREGORIAN
METHOD:PUBLISH
X-WR-CALNAME:Buurtschap Nobelhorst
X-ORIGINAL-URL:https://www.buurtschapnobelhorst.nl
X-WR-CALDESC:Evenementen voor Buurtschap Nobelhorst
REFRESH-INTERVAL;VALUE=DURATION:PT1H
X-Robots-Tag:noindex
X-PUBLISHED-TTL:PT1H
BEGIN:VTIMEZONE
TZID:Europe/Amsterdam
BEGIN:DAYLIGHT
TZOFFSETFROM:+0100
TZOFFSETTO:+0200
TZNAME:CEST
DTSTART:20240331T010000
END:DAYLIGHT
BEGIN:STANDARD
TZOFFSETFROM:+0200
TZOFFSETTO:+0100
TZNAME:CET
DTSTART:20241027T010000
END:STANDARD
BEGIN:DAYLIGHT
TZOFFSETFROM:+0100
TZOFFSETTO:+0200
TZNAME:CEST
DTSTART:20250330T010000
END:DAYLIGHT
BEGIN:STANDARD
TZOFFSETFROM:+0200
TZOFFSETTO:+0100
TZNAME:CET
DTSTART:20251026T010000
END:STANDARD
BEGIN:DAYLIGHT
TZOFFSETFROM:+0100
TZOFFSETTO:+0200
TZNAME:CEST
DTSTART:20260329T010000
END:DAYLIGHT
BEGIN:STANDARD
TZOFFSETFROM:+0200
TZOFFSETTO:+0100
TZNAME:CET
DTSTART:20261025T010000
END:STANDARD
END:VTIMEZONE
BEGIN:VEVENT
DTSTART;TZID=Europe/Amsterdam:20241025T190000
DTEND;TZID=Europe/Amsterdam:20241025T213000
DTSTAMP:20260425T162045
CREATED:20241002T120340Z
LAST-MODIFIED:20241002T120758Z
UID:5165-1729882800-1729891800@www.buurtschapnobelhorst.nl
SUMMARY:Halloween Blacklight party
DESCRIPTION:Wat kun je verwachten? \nEen gruwelijk feest in de Buurtschuur\nDiverse snacks en drankjes (Fris | Limonade | Snoep | Popcorn | Chips)\nMuziek van DJ TIM MAIER \nKosten:\nKinderen van de leden van Buurtschap Midden kunnen kosteloos naar binnen (4 t/m 17 jaar). Ouders zijn altijd verantwoordelijk voor eigen kinderen. \nVanaf 28 september kunnen ook kinderen buiten Buurtschap Midden zich inschrijven voor de Disco. Kosten niet-leden: €2.50. \nNa aanmelding ontvang je een betaalverzoek. Je aanmelding is definitief na betaling. \nAanmelden: \nDe eerste twee weken\, t/m 27 september 2024\, staat de inschrijving alleen open voor de leden van Buurtschap Midden en na 28 september mogen zich ook niet-leden inschrijven. Je inschrijven kan tot 22 Oktober 2024. Let op: VOL = VOL
URL:https://www.buurtschapnobelhorst.nl/event/halloween-blacklight-party/
LOCATION:Buurtschuur\, nobellaan 13\, Almere\, 1341BJ\, Nederland
CATEGORIES:Kinderen
ATTACH;FMTTYPE=image/jpeg:https://www.buurtschapnobelhorst.nl/wp-content/uploads/2024/10/167ebcf0-e556-a3db-3800-dcc82c7c8516.jpg
END:VEVENT
BEGIN:VEVENT
DTSTART;TZID=Europe/Amsterdam:20241025T200000
DTEND;TZID=Europe/Amsterdam:20241025T220000
DTSTAMP:20260425T162045
CREATED:20241002T120713Z
LAST-MODIFIED:20241002T120713Z
UID:5168-1729886400-1729893600@www.buurtschapnobelhorst.nl
SUMMARY:Halloween Walk
DESCRIPTION:Wat kun je verwachten? \n\nSpannende Halloween Walk. Let op: alleen voor leeftijd 12 t/m 17 jaar.\nDeelname op eigen risico. Ouders zijn eindverantwoordelijk voor eigen kinderen.\n\nKosten: \n\nKinderen van de leden van Buurtschap Midden kunnen kosteloos meedoen aan deze wandeling (12 t/m 17 jaar).  \nVanaf 28 september kunnen ook kinderen buiten Buurtschap Midden zich inschrijven voor de Halloween Walk. Kosten niet-leden: €2.50.\nNa aanmelding ontvang je een betaalverzoek. Je aanmelding is definitief na betaling.\n\nAanmelden: \nDe eerste twee weken\, t/m 27 september 2024\, staat de inschrijving alleen open voor de leden van Buurtschap Midden en na 28 september mogen zich ook niet-leden inschrijven. Inschrijven kan tot 22 Oktober 2024. Let op: VOL = VOL\nVrijwilligers gezocht: \nWe zoeken nog vrijwilligers voor hulp tijdens de wandeling. Geef dit aub ook in het aanmeldformulier aan of stuur ons een e-mail. \nAanmelden kan via dit formulier. \nWe hopen jullie kinderen allemaal te zien op 25 oktober! 
URL:https://www.buurtschapnobelhorst.nl/event/halloween-walk/
LOCATION:Buurtschuur\, nobellaan 13\, Almere\, 1341BJ\, Nederland
ATTACH;FMTTYPE=image/jpeg:https://www.buurtschapnobelhorst.nl/wp-content/uploads/2024/10/0814b31b-3fb4-3189-c61b-aefb34b9275c.jpg
END:VEVENT
BEGIN:VEVENT
DTSTART;TZID=Europe/Amsterdam:20260516T100000
DTEND;TZID=Europe/Amsterdam:20260517T150000
DTSTAMP:20260425T162045
CREATED:20260410T081529Z
LAST-MODIFIED:20260410T081647Z
UID:5205-1778925600-1779030000@www.buurtschapnobelhorst.nl
SUMMARY:Nobel Run 2026
DESCRIPTION:Nobel Run vindt plaats op 16 en 17 mei en is een gezellig en laagdrempelig hardloopevenement in het mooiste gebied van Almere: Almere Hout. Het sportevenement sluit perfect aan bij het groene en duurzame karakter van Almere Hout\, de verschillende routes lopen immers dwars door de prachtige natuur van dit gebied. De organisatie wil hiermee een duurzame en sportieve bijdrage aan Almere Hout leveren.
URL:https://www.buurtschapnobelhorst.nl/event/nobelrun-2026/
END:VEVENT
END:VCALENDAR